Workbook
Name a: #REF!
Name a: #REF!
Name a: #REF!
Name aaa: #REF!
Name aaa: #REF!
Name aaa: 'درآمد ناشی از تغییر قیمت اوراق '!$A$9:$A$15
Name bb: #REF!
Name bb: #REF!
Name bb: #REF!
Name سودسهام: #REF!

Sheet 1405.06.31
A23: گزارش وضعیت پرتفوی ماهانه
A28: منتهی به 31 شهریور ماه 1405

Sheet سهام
E1: 420000
A2: صندوق سرمایه‌گذاری آهنگ سهام کیان
A3: صورت وضعیت پرتفوی
A4: برای ماه منتهی به 1405/06/31
A6: 1- سرمایه گذاری ها
A7: 1-1-سرمایه‌گذاری در سهام و حق تقدم سهام
A9: نام شرکت | C9: 1405/05/31 | D9: 1399/07/30 | E9: 1399/07/30 | F9: 1399/07/30 | G9: 1399/07/30 | I9: تغییرات طی دوره | J9: تغییرات طی دوره | K9: تغییرات طی دوره | L9: تغییرات طی دوره | M9: تغییرات طی دوره | N9: تغییرات طی دوره | O9: تغییرات طی دوره | Q9: 1405/06/31 | R9: 1399/08/30 | S9: 1399/08/30 | T9: 1399/08/30 | U9: 1399/08/30 | V9: 1399/08/30 | W9: 1399/08/30 | X9: 1399/08/30 | Y9: 1399/08/30
A10: نام شرکت | C10: تعداد | E10: بهای تمام شده | G10: خالص ارزش فروش | I10: خرید طی دوره | J10: خرید طی دوره | K10: خرید طی دوره | M10: فروش طی دوره | N10: فروش طی دوره | O10: فروش طی دوره | Q10: تعداد | S10: قیمت بازار | U10: بهای تمام شده | W10: خالص ارزش فروش | Y10: درصد به کل دارایی‌های صندوق
A11: نام شرکت | C11: تعداد | E11: بهای تمام شده | G11: خالص ارزش فروش | I11: تعداد | K11: بهای تمام شده | M11: تعداد | O11: مبلغ فروش | Q11: تعداد | S11: قیمت بازار | U11: بهای تمام شده | Y11: درصد به کل دارایی‌های صندوق
A12: البرزدارو | C12: 20000001 | E12: 90043220726 | G12: 3.0800062e+11 | I12: 300000 | K12: 4235252712 | M12: -5300000 | O12: 83778690927 | Q12: 15000001 | S12: 15090 | U12: 70417021141 | W12: 2.2460033e+11 | Y12: =W12/'جمع درآمدها'!$J$6 -> 0.025486163
A13: پخش البرز | C13: 0 | E13: 0 | G13: 0 | I13: 0 | K13: 0 | M13: 0 | O13: 0 | Q13: 0 | S13: 0 | U13: 0 | W13: 0 | Y13: =W13/'جمع درآمدها'!$J$6 -> 0
A14: بانک خاورمیانه | C14: 40000000 | E14: 201026453998 | G14: 250845856000 | I14: 0 | K14: 0 | M14: -10000000 | O14: 60903978426 | Q14: 30000000 | S14: 6010 | U14: 150769840501 | W14: 178906281000 | Y14: =W14/'جمع درآمدها'!$J$6 -> 0.020301104
A15: زغال سنگ پروده طبس | C15: 100000000 | E15: 366882708476 | G15: 469343710000 | I15: 0 | K15: 0 | M15: -30000000 | O15: 171761937872 | Q15: 70000000 | S15: 5340 | U15: 256817895940 | W15: 370910526000 | Y15: =W15/'جمع درآمدها'!$J$6 -> 0.042088478
A16: سپید ماکیان | C16: 0 | E16: 0 | G16: 0 | I16: 0 | K16: 0 | M16: 0 | O16: 0 | Q16: 0 | S16: 0 | U16: 0 | W16: 0 | Y16: =W16/'جمع درآمدها'!$J$6 -> 0
A17: سیمان خوزستان | C17: 14000000 | E17: 844230276125 | G17: 1178161861800 | I17: 0 | K17: 0 | M17: 0 | O17: 0 | Q17: 14000000 | S17: 91100 | U17: 844230276125 | W17: 1265541158000 | Y17: =W17/'جمع درآمدها'!$J$6 -> 0.14360526
A18: سیمان‌مازندران‌ | C18: 6000000 | E18: 173280730510 | G18: 458785957200 | I18: 0 | K18: 0 | M18: 0 | O18: 0 | Q18: 6000000 | S18: 80740 | U18: 173280730510 | W18: 480695278800 | Y18: =W18/'جمع درآمدها'!$J$6 -> 0.054546127
A19: شیشه‌ و گاز | C19: 13000000 | E19: 427021392260 | G19: 615306627000 | I19: 500000 | K19: 21721169782 | M19: -1500000 | O19: 81639014948 | Q19: 12000000 | S19: 54930 | U19: 398882277351 | W19: 654064693200 | Y19: =W19/'جمع درآمدها'!$J$6 -> 0.074218943
A20: م .صنایع و معادن احیاء سپاهان | C20: 15000000 | E20: 133286828279 | G20: 219390897000 | I20: 0 | K20: 0 | M20: 0 | O20: 0 | Q20: 15000000 | S20: 18490 | U20: 133286828279 | W20: 275206084500 | Y20: =W20/'جمع درآمدها'!$J$6 -> 0.031228569
A21: موتوژن‌ | C21: 60000000 | E21: 107162441133 | G21: 178013238000 | I21: 0 | K21: 0 | M21: 0 | O21: 0 | Q21: 60000000 | S21: 3260 | U21: 107162441133 | W21: 194088012000 | Y21: =W21/'جمع درآمدها'!$J$6 -> 0.022023826
A22: کربن‌ ایران‌ | C22: 60000000 | E22: 444989802344 | G22: 485220030000 | I22: 3300000 | K22: 28813813699 | M22: 0 | O22: 0 | Q22: 63300000 | S22: 9810 | U22: 473803616043 | W22: 616172878710 | Y22: =W22/'جمع درآمدها'!$J$6 -> 0.06991923
A23: پتروشیمی شیراز | C23: 3010000 | E23: 215985808457 | G23: 184221672936 | I23: 0 | K23: 0 | M23: -1010000 | O23: 60180595899 | Q23: 2000000 | S23: 70110 | U23: 143512165089 | W23: 139136099400 | Y23: =W23/'جمع درآمدها'!$J$6 -> 0.015788246
A24: گروه مالی کیان | C24: 25174825 | E24: 79881091808 | G24: 1.8263041e+11 | H24: 0 | I24: 0 | K24: 0 | M24: -10812191 | O24: 85722264019 | Q24: 14362634 | S24: 7580 | U24: 45573420470 | W24: 1.0802721e+11 | Y24: =W24/'جمع درآمدها'!$J$6 -> 0.012258215
A25: سیمان‌ ایلام‌ | C25: 3600000 | E25: 62750431807 | G25: 72086430960 | H25: 0 | I25: 0 | K25: 0 | M25: 0 | O25: 0 | Q25: 3600000 | S25: 21680 | U25: 62750431807 | W25: 77444688960 | Y25: =W25/'جمع درآمدها'!$J$6 -> 0.008787912
A26: سرمایه گذاری صندوق بازنشستگی | C26: 0 | E26: 0 | G26: 0 | H26: 0 | I26: 0 | K26: 0 | M26: 0 | O26: 0 | Q26: 0 | S26: 0 | U26: 0 | W26: 0 | Y26: =W26/'جمع درآمدها'!$J$6 -> 0
A27: صنایع پتروشیمی کرمانشاه | C27: 20000001 | E27: 530229289989 | G27: 4.6021485e+11 | I27: 4545 | K27: 103446341 | M27: -10004545 | O27: 297314038062 | Q27: 10000001 | S27: 29320 | U27: 265106136044 | W27: 2.9093359e+11 | Y27: =W27/'جمع درآمدها'!$J$6 -> 0.033013223
A28: معدنی‌ املاح‌ ایران‌ | C28: 12000000 | E28: 391741193911 | G28: 409728128400 | H28: 0 | I28: 2000000 | K28: 71750646386 | M28: 0 | O28: 0 | Q28: 14000000 | S28: 38400 | U28: 463491840297 | W28: 533444352000 | Y28: =W28/'جمع درآمدها'!$J$6 -> 0.060531743
A29: سبحان دارو | C29: 30000000 | E29: 191709414998 | G29: 367933716000 | I29: 0 | K29: 0 | M29: -30000000 | O29: 378947915230 | Q29: 0 | S29: 0 | U29: 0 | W29: 0 | Y29: =W29/'جمع درآمدها'!$J$6 -> 0
A30: پالایش نفت تبریز | C30: 5000000 | E30: 230446383717 | G30: 231446977500 | I30: 0 | K30: 0 | M30: -1000000 | O30: 52401778971 | Q30: 4000000 | S30: 56570 | U30: 184357106975 | W30: 224530855600 | Y30: =W30/'جمع درآمدها'!$J$6 -> 0.025478279
A31: تولیدمواداولیه‌داروپخش‌ | C31: 6100000 | E31: 256995529422 | G31: 305063488800 | I31: 900000 | K31: 51932981588 | M31: -1000000 | O31: 52401778958 | Q31: 6000000 | S31: 52800 | U31: 264795866577 | W31: 314351136000 | Y31: =W31/'جمع درآمدها'!$J$6 -> 0.035670491
A32: ویتانا | C32: 0 | E32: 0 | G32: 0 | I32: 60000000 | K32: 379789994764 | M32: 0 | O32: 0 | Q32: 60000000 | S32: 5970 | U32: 379789994764 | W32: 355431114000 | Y32: =W32/'جمع درآمدها'!$J$6 -> 0.040331976
A33: مهرمام میهن | C33: 0 | E33: 0 | G33: 0 | I33: 20000000 | K33: 84060588499 | M33: 0 | O33: 0 | Q33: 20000000 | S33: 4260 | U33: 84060588499 | W33: 84541404000 | Y33: =W33/'جمع درآمدها'!$J$6 -> 0.0095932004
A34: ح.مهرمام میهن | C34: 0 | E34: 0 | G34: 0 | I34: 60000000 | K34: 160623568794 | M34: 0 | O34: 0 | Q34: 60000000 | S34: 2940 | U34: 160623568794 | W34: 175036428000 | Y34: =W34/'جمع درآمدها'!$J$6 -> 0.019861978
A35: بین المللی توسعه ص. معادن غدیر | C35: 0 | E35: 0 | G35: 0 | I35: 30000000 | K35: 157457448638 | M35: -30000000 | O35: 202423867892 | Q35: 0 | S35: 0 | U35: 0 | W35: 0 | Y35: =W35/'جمع درآمدها'!$J$6 -> 0
A36: جمع | E36: =SUM(E12:E35) -> 4747662997960 | F36: =SUM(F12:G24) -> 4.5299209e+12 | G36: =SUM(G12:G35) -> 6.3763945e+12 | K36: =SUM(K12:K35) -> 960488911203 | L36: =SUM(L12:M25) -> -58622191 | O36: =SUM(O12:O35) -> 1527475861204 | U36: =SUM(U12:U35) -> 4662712046339 | V36: =SUM(V12:W25) -> 4.5847932e+12 | W36: =SUM(W12:W35) -> 6.5630621e+12 | Y36: =SUM(Y12:Y35) -> 0.74473296

Sheet کالا
A1: صندوق سرمایه گذاری آهنگ سهام کیان
A2: صورت وضعیت پرتفوی
A3: برای ماه منتهی به 1405/06/31
A5: 2-1-سرمایه‌گذاری در گواهی سپرده کالایی
C7: 1405/05/31 | I7: تغییرات طی دوره | O7: 1405/06/31
A8: شرکت | C8: تعداد | E8: بهای تمام شده | G8: خالص ارزش فروش | I8: خرید طی دوره | L8: فروش طی دوره | O8: تعداد | Q8: قیمت بازار هر سهم | S8: بهای تمام شده | U8: خالص ارزش فروش | W8: درصد به کل دارایی‌ها
I9: تعداد | J9: بهای تمام شده | L9: تعداد | M9: مبلغ فروش
A10: شمش طلا CD1GOB0001 | C10: 17570 | E10: 179952942962 | G10: 4.9008348e+11 | O10: 17570 | Q10: 31873242 | S10: 179952942962 | U10: 5.5866883e+11 | W10: =U10/'جمع درآمدها'!$J$6 -> 0.06339405
A11: جمع | E11: =SUM(E10) -> 179952942962 | G11: =SUM(G10) -> 4.9008348e+11 | J11: =SUM(J10) -> 0 | M11: =SUM(M10) -> 0 | S11: =SUM(S10) -> 179952942962 | U11: =SUM(U10) -> 5.5866883e+11 | W11: =SUM(W10) -> 0.06339405

Sheet اوراق
A2: صندوق سرمایه‌گذاری آهنگ سهام کیان
A3: صورت وضعیت پرتفوی
A4: برای ماه منتهی به 1405/06/31
A7: 3-1-سرمایه‌گذاری در اوراق بهادار با درآمد ثابت
A9: 1405/05/31 | U9: تغییرات طی دوره | AC9: 1405/06/31
A10: نام شرکت | C10: دارای مجوز سازمان | E10: بورسی یا فرابورسی | G10: تاریخ انتشار | I10: تاریخ سررسید | K10: نرخ سود | M10: نرخ موثر | O10: تعداد | Q10: بهای تمام شده | S10: خالص ارزش فروش | U10: تعداد | W10: بهای تمام شده | Y10: تعداد | AA10: مبلغ فروش | AC10: تعداد | AE10: قیمت بازار هر ورقه | AG10: بهای تمام شده | AI10: خالص ارزش فروش | AK10: درصد به کل دارایی‌های صندوق
O12: =SUM(O11:O11) -> 0 | Q12: =SUM(Q11:Q11) -> 0 | S12: =SUM(S11:S11) -> 0 | W12: =SUM(W11:W11) -> 0 | AA12: =SUM(AA11:AA11) -> 0 | AG12: =SUM(AG11:AG11) -> 0 | AI12: =SUM(AI11:AI11) -> 0 | AK12: =SUM(AK11:AK11) -> 0

Sheet سپرده 
A2: =سهام!A2 -> صندوق سرمایه‌گذاری آهنگ سهام کیان
A3: =سهام!A3 -> صورت وضعیت پرتفوی
A4: =سهام!A4 -> برای ماه منتهی به 1405/06/31
A6: 4-1- سرمایه‌گذاری در سپرده‌ بانکی
A7: سپرده | C7: =سهام!C9 -> 1405/05/31 | E7: تغییرات طی دوره | F7: تغییرات طی دوره | G7: تغییرات طی دوره | I7: =سهام!Q9 -> 1405/06/31 | J7: 1398/03/31 | K7: 1398/03/31
A8: سپرده | C8: مبلغ | E8: افزایش | G8: کاهش | I8: مبلغ | K8: درصد به کل دارایی‌ها
A9: سپرده کوتاه مدت بانک دی حافظ | C9: 4695257 | E9: 19854 | G9: 0 | I9: 4715111 | K9: =I9/'جمع درآمدها'!$J$6 -> 5.3503967e-07
A10: سپرده کوتاه مدت بانک خاورمیانه مهستان | C10: 9407891634 | E10: 1780566751467 | G10: 1764523803400 | I10: 25450839701 | K10: =I10/'جمع درآمدها'!$J$6 -> 0.0028879933
A11: حساب جاری بانک خاورمیانه مهستان | C11: 775342 | E11: 0 | G11: 0 | I11: 775342 | K11: =I11/'جمع درآمدها'!$J$6 -> 8.7980691e-08
A12: سپرده کوتاه مدت بانک اقتصاد نوین توحید | C12: 133679177 | E12: 564738 | G12: 0 | I12: 134243915 | K12: =I12/'جمع درآمدها'!$J$6 -> 1.5233113e-05
A13: سپرده کوتاه مدت بانک سامان زعفرانیه | C13: 553387 | E13: 2340 | G13: 0 | I13: 555727 | K13: =I13/'جمع درآمدها'!$J$6 -> 6.3060231e-08
A14: سپرده کوتاه مدت بانک پاسارگاد الوند | C14: 1478159 | E14: 6250 | G14: 0 | I14: 1484409 | K14: =I14/'جمع درآمدها'!$J$6 -> 1.6844093e-07
A15: سپرده کوتاه مدت بانک دی دروس | C15: 134129083 | E15: 567181 | G15: 0 | I15: 134696264 | K15: =I15/'جمع درآمدها'!$J$6 -> 1.5284443e-05
A16: سپرده کوتاه مدت بانک ملت جهان کودک | C16: 1050814 | E16: 4443 | G16: 0 | I16: 1055257 | K16: =I16/'جمع درآمدها'!$J$6 -> 1.197436e-07
A17: قرض الحسنه بانک ملت جهان کودک | C17: 290836 | E17: 0 | G17: 0 | I17: 290836 | K17: =I17/'جمع درآمدها'!$J$6 -> 3.3002149e-08
A18: سپرده کوتاه مدت بانک صادرات جمهوری | C18: 685038901 | E18: 2909069 | G18: 0 | I18: 687947970 | K18: =I18/'جمع درآمدها'!$J$6 -> 7.8063794e-05
A19: سپرده کوتاه مدت بانک گردشگری بلوار فردوس | C19: 1692617802 | E19: 7187828 | G19: 0 | I19: 1699805630 | K19: =I19/'جمع درآمدها'!$J$6 -> 0.00019288272
A20: سپرده کوتاه مدت بانک گردشگری بلوار فردوس | C20: 489907920620 | E20: 1152588505913 | G20: 350002160000 | I20: 1292494266533 | K20: =I20/'جمع درآمدها'!$J$6 -> 0.14666372
C21: =SUM(C9:C20) -> 501970121012 | D21: =SUM(D9:D18) -> 0 | E21: =SUM(E9:E20) -> 2933166519083 | F21: =SUM(F9:F18) -> 0 | G21: =SUM(G9:G20) -> 2114525963400 | H21: =SUM(H9:H18) -> 0 | I21: =SUM(I9:I20) -> 1320610676695 | J21: =SUM(J9:J15) -> 0 | K21: =SUM(K9:K20) -> 0.14985418

Sheet جمع درآمدها
A2: صندوق سرمایه‌گذاری آهنگ سهام کیان
A3: صورت وضعیت درآمدها | B3: صورت وضعیت درآمدها | E3: صورت وضعیت درآمدها | F3: صورت وضعیت درآمدها | G3: صورت وضعیت درآمدها
A4: =سهام!A4 -> برای ماه منتهی به 1405/06/31 | B4: برای ماه منتهی به 1398/03/31 | E4: برای ماه منتهی به 1398/03/31 | F4: برای ماه منتهی به 1398/03/31 | G4: برای ماه منتهی به 1398/03/31
J5: 4332832826585 | K5: درآمدها
A6: 2- درآمد حاصل از سرمایه گذاری ها | J6: 8812638206954 | K6: کل دارایی ها
C7: از ابتدای سال مالی تا پایان شهریور ماه
A8: توضیحات | C8: یادداشت | E8: مبلغ | G8: درصد از کل درآمدها | I8: درصد به کل دارایی‌های صندوق
A9: درآمد حاصل از سرمایه گذاری در سهام و حق تقدم سهام | C9: 2-1- | E9: ='سرمایه‌گذاری در سهام '!S50 -> 4113468566297 | G9: =E9/$J$5 -> 0.94937163 | I9: =E9/$J$6 -> 0.46676925
A10: ‫درآمد حاصل از سرمایه گذاری درگواهی سپرده کالایی | C10: 2-2- | E10: ='درآمد سرمایه گذاری در کالا '!S12 -> 126092629289 | G10: =E10/$J$5 -> 0.02910166 | I10: =E10/$J$6 -> 0.014308159
A11: درآمد حاصل از سرمایه گذاری در سپرده بانکی و گواهی سپرده | C11: 2-4- | E11: ='درآمد سپرده بانکی '!G27 -> 31260996769 | G11: =E11/$J$5 -> 0.0072149095 | I11: =E11/$J$6 -> 0.0035472915
A12: سایر درآمدها | C12: 2-5- | E12: ='سایر درآمدها '!E13 -> 11305395973 | G12: =E12/$J$5 -> 0.0026092389 | I12: =E12/$J$6 -> 0.0012828617
E13: =SUM(E9:E12) -> 4282127588328 | G13: =SUM(G9:G12) -> 0.98829744 | I13: =SUM(I9:I12) -> 0.48590757

Sheet سرمایه‌گذاری در سهام 
A2: صندوق سرمایه‌گذاری آهنگ سهام کیان
A3: صورت وضعیت درآمدها
A4: ='درآمد ناشی از فروش '!A4:Q4 -> برای ماه منتهی به 1405/06/31
A6: 1-2-درآمد حاصل از سرمایه­گذاری در سهام و حق تقدم سهام:
A8: نام شرکت | C8: طی شهریور ماه | D8: طی ماه | E8: طی ماه | G8: طی ماه | H8: طی ماه | I8: طی ماه | J8: طی ماه | K8: طی ماه | M8: از ابتدای سال مالی تا پایان شهریور ماه | N8: از ابتدای سال مالی تا پایان ماه | O8: از ابتدای سال مالی تا پایان ماه | P8: از ابتدای سال مالی تا پایان ماه | Q8: از ابتدای سال مالی تا پایان ماه | S8: از ابتدای سال مالی تا پایان ماه | T8: از ابتدای سال مالی تا پایان ماه | U8: از ابتدای سال مالی تا پایان ماه
A9: نام شرکت | C9: درآمد سود سهام | E9: درآمد تغییر ارزش | G9: درآمد فروش | I9: مبلغ | K9: درصد از کل درآمدها | M9: درآمد سود سهام | O9: درآمد تغییر ارزش | Q9: درآمد فروش | S9: مبلغ | U9: درصد از کل درآمدها
A10: سرمایه گذاری صندوق بازنشستگی | C10: =IFERROR(VLOOKUP(A10,'درآمد سود سهام '!$A$9:$S$26,9,0),0) -> 0 | E10: =IFERROR(VLOOKUP('سرمایه‌گذاری در سهام '!A10,'درآمد ناشی از تغییر قیمت اوراق '!$A$9:$I$29,9,0),0) -> 0 | G10: =IFERROR(VLOOKUP(A10,'درآمد ناشی از فروش '!$A$7:$Q$35,9,0),0) -> 0 | I10: =C10+E10+G10 -> 0 | K10: =I10/W$10 -> 0 | M10: =IFERROR(VLOOKUP(A10,'درآمد سود سهام '!$A$9:$S$23,19,0),0) -> 0 | O10: =IFERROR(VLOOKUP(A10,'درآمد ناشی از تغییر قیمت اوراق '!$A$9:$Q$29,17,0),0) -> 0 | Q10: =IFERROR(VLOOKUP(A10,'درآمد ناشی از فروش '!$A$9:$Q$35,17,0),0) -> -15845398633 | S10: =M10+O10+Q10 -> -15845398633 | U10: =S10/'جمع درآمدها'!$J$5 -> -0.0036570528 | W10: 896402218313 | X10: جمع درآمدها طی دوره
A11: فولاد کاوه جنوب کیش | C11: =IFERROR(VLOOKUP(A11,'درآمد سود سهام '!$A$9:$S$26,9,0),0) -> 0 | E11: =IFERROR(VLOOKUP('سرمایه‌گذاری در سهام '!A11,'درآمد ناشی از تغییر قیمت اوراق '!$A$9:$I$29,9,0),0) -> 0 | G11: =IFERROR(VLOOKUP(A11,'درآمد ناشی از فروش '!$A$7:$Q$35,9,0),0) -> 0 | I11: =C11+E11+G11 -> 0 | K11: =I11/W$10 -> 0 | M11: =IFERROR(VLOOKUP(A11,'درآمد سود سهام '!$A$9:$S$23,19,0),0) -> 0 | O11: =IFERROR(VLOOKUP(A11,'درآمد ناشی از تغییر قیمت اوراق '!$A$9:$Q$29,17,0),0) -> 0 | Q11: =IFERROR(VLOOKUP(A11,'درآمد ناشی از فروش '!$A$9:$Q$35,17,0),0) -> 0 | S11: =M11+O11+Q11 -> 0 | U11: =S11/'جمع درآمدها'!$J$5 -> 0 | W11: 4332832826585 | X11: جمع درآمدها از اول دوره
A12: گروه مالی صبا تامین | C12: =IFERROR(VLOOKUP(A12,'درآمد سود سهام '!$A$9:$S$26,9,0),0) -> 0 | E12: =IFERROR(VLOOKUP('سرمایه‌گذاری در سهام '!A12,'درآمد ناشی از تغییر قیمت اوراق '!$A$9:$I$29,9,0),0) -> 0 | G12: =IFERROR(VLOOKUP(A12,'درآمد ناشی از فروش '!$A$7:$Q$35,9,0),0) -> 0 | I12: =C12+E12+G12 -> 0 | K12: =I12/W$10 -> 0 | M12: =IFERROR(VLOOKUP(A12,'درآمد سود سهام '!$A$9:$S$23,19,0),0) -> 0 | O12: =IFERROR(VLOOKUP(A12,'درآمد ناشی از تغییر قیمت اوراق '!$A$9:$Q$29,17,0),0) -> 0 | Q12: =IFERROR(VLOOKUP(A12,'درآمد ناشی از فروش '!$A$9:$Q$35,17,0),0) -> 0 | S12: =M12+O12+Q12 -> 0 | U12: =S12/'جمع درآمدها'!$J$5 -> 0
A13: شرکت ارتباطات سیار ایران | C13: =IFERROR(VLOOKUP(A13,'درآمد سود سهام '!$A$9:$S$26,9,0),0) -> 0 | E13: =IFERROR(VLOOKUP('سرمایه‌گذاری در سهام '!A13,'درآمد ناشی از تغییر قیمت اوراق '!$A$9:$I$29,9,0),0) -> 0 | G13: =IFERROR(VLOOKUP(A13,'درآمد ناشی از فروش '!$A$7:$Q$35,9,0),0) -> 0 | I13: =C13+E13+G13 -> 0 | K13: =I13/W$10 -> 0 | M13: =IFERROR(VLOOKUP(A13,'درآمد سود سهام '!$A$9:$S$23,19,0),0) -> 0 | O13: =IFERROR(VLOOKUP(A13,'درآمد ناشی از تغییر قیمت اوراق '!$A$9:$Q$29,17,0),0) -> 0 | Q13: =IFERROR(VLOOKUP(A13,'درآمد ناشی از فروش '!$A$9:$Q$35,17,0),0) -> 0 | S13: =M13+O13+Q13 -> 0 | U13: =S13/'جمع درآمدها'!$J$5 -> 0
A14: سیمان خوزستان | C14: =IFERROR(VLOOKUP(A14,'درآمد سود سهام '!$A$9:$S$26,9,0),0) -> 0 | E14: =IFERROR(VLOOKUP('سرمایه‌گذاری در سهام '!A14,'درآمد ناشی از تغییر قیمت اوراق '!$A$9:$I$29,9,0),0) -> 87379296200 | G14: =IFERROR(VLOOKUP(A14,'درآمد ناشی از فروش '!$A$7:$Q$35,9,0),0) -> 0 | I14: =C14+E14+G14 -> 87379296200 | K14: =I14/W$10 -> 0.097477778 | M14: =IFERROR(VLOOKUP(A14,'درآمد سود سهام '!$A$9:$S$26,19,0),0) -> 143080000000 | N14: =IFERROR(VLOOKUP(B14,'درآمد سود سهام '!$A$9:$S$26,19,0),0) -> 0 | O14: =IFERROR(VLOOKUP(A14,'درآمد ناشی از تغییر قیمت اوراق '!$A$9:$Q$29,17,0),0) -> 180573039584 | Q14: =IFERROR(VLOOKUP(A14,'درآمد ناشی از فروش '!$A$9:$Q$35,17,0),0) -> 36441602972 | S14: =M14+O14+Q14 -> 360094642556 | U14: =S14/'جمع درآمدها'!$J$5 -> 0.083108363
A15: سیمان مازندران | C15: =IFERROR(VLOOKUP(A15,'درآمد سود سهام '!$A$9:$S$26,9,0),0) -> 0 | E15: =IFERROR(VLOOKUP('سرمایه‌گذاری در سهام '!A15,'درآمد ناشی از تغییر قیمت اوراق '!$A$9:$I$29,9,0),0) -> 21909321600 | G15: =IFERROR(VLOOKUP(A15,'درآمد ناشی از فروش '!$A$7:$Q$35,9,0),0) -> 0 | I15: =C15+E15+G15 -> 21909321600 | K15: =I15/W$10 -> 0.024441396 | M15: =IFERROR(VLOOKUP(A15,'درآمد سود سهام '!$A$9:$S$26,19,0),0) -> 0 | O15: =IFERROR(VLOOKUP(A15,'درآمد ناشی از تغییر قیمت اوراق '!$A$9:$Q$29,17,0),0) -> 271544608212 | Q15: =IFERROR(VLOOKUP(A15,'درآمد ناشی از فروش '!$A$9:$Q$35,17,0),0) -> 90332689397 | S15: =M15+O15+Q15 -> 361877297609 | U15: =S15/'جمع درآمدها'!$J$5 -> 0.083519792
A16: شیشه‌ و گاز | C16: =IFERROR(VLOOKUP(A16,'درآمد سود سهام '!$A$9:$S$26,13,0),0) -> 30897674419 | E16: =IFERROR(VLOOKUP('سرمایه‌گذاری در سهام '!A16,'درآمد ناشی از تغییر قیمت اوراق '!$A$9:$I$29,9,0),0) -> 56632806643 | G16: =IFERROR(VLOOKUP(A16,'درآمد ناشی از فروش '!$A$7:$Q$35,9,0),0) -> 42043104723 | I16: =C16+E16+G16 -> 129573585785 | K16: =I16/W$10 -> 0.14454849 | M16: =IFERROR(VLOOKUP(A16,'درآمد سود سهام '!$A$9:$S$26,19,0),0) -> 30897674419 | O16: =IFERROR(VLOOKUP(A16,'درآمد ناشی از تغییر قیمت اوراق '!$A$9:$Q$29,17,0),0) -> 337297411822 | Q16: =IFERROR(VLOOKUP(A16,'درآمد ناشی از فروش '!$A$9:$Q$35,17,0),0) -> 75822877944 | S16: =M16+O16+Q16 -> 444017964185 | U16: =S16/'جمع درآمدها'!$J$5 -> 0.10247752
A17: بانک خاورمیانه | C17: =IFERROR(VLOOKUP(A17,'درآمد سود سهام '!$A$9:$S$26,13,0),0) -> 0 | E17: =IFERROR(VLOOKUP('سرمایه‌گذاری در سهام '!A17,'درآمد ناشی از تغییر قیمت اوراق '!$A$9:$I$29,9,0),0) -> -21682961503 | G17: =IFERROR(VLOOKUP(A17,'درآمد ناشی از فروش '!$A$7:$Q$35,9,0),0) -> 10647364929 | I17: =C17+E17+G17 -> -11035596574 | K17: =I17/W$10 -> -0.012310988 | M17: =IFERROR(VLOOKUP(A17,'درآمد سود سهام '!$A$9:$S$26,19,0),0) -> 7802000000 | O17: =IFERROR(VLOOKUP(A17,'درآمد ناشی از تغییر قیمت اوراق '!$A$9:$Q$29,17,0),0) -> 28136440499 | Q17: =IFERROR(VLOOKUP(A17,'درآمد ناشی از فروش '!$A$9:$Q$35,17,0),0) -> 13882251168 | S17: =M17+O17+Q17 -> 49820691667 | U17: =S17/'جمع درآمدها'!$J$5 -> 0.011498411
A18: البرزدارو | C18: =IFERROR(VLOOKUP(A18,'درآمد سود سهام '!$A$9:$S$26,13,0),0) -> 0 | E18: =IFERROR(VLOOKUP('سرمایه‌گذاری در سهام '!A18,'درآمد ناشی از تغییر قیمت اوراق '!$A$9:$I$29,9,0),0) -> -62456931146 | G18: =IFERROR(VLOOKUP(A18,'درآمد ناشی از فروش '!$A$7:$Q$35,9,0),0) -> 58600075434 | I18: =C18+E18+G18 -> -3856855712 | K18: =I18/W$10 -> -0.004302595 | M18: =IFERROR(VLOOKUP(A18,'درآمد سود سهام '!$A$9:$S$26,19,0),0) -> 10587879180 | O18: =IFERROR(VLOOKUP(A18,'درآمد ناشی از تغییر قیمت اوراق '!$A$9:$Q$29,17,0),0) -> 150530044074 | Q18: =IFERROR(VLOOKUP(A18,'درآمد ناشی از فروش '!$A$9:$Q$35,17,0),0) -> 656145615833 | S18: =M18+O18+Q18 -> 817263539087 | U18: =S18/'جمع درآمدها'!$J$5 -> 0.18862106
A19: کربن‌ ایران‌ | C19: =IFERROR(VLOOKUP(A19,'درآمد سود سهام '!$A$9:$S$26,13,0),0) -> 0 | E19: =IFERROR(VLOOKUP('سرمایه‌گذاری در سهام '!A19,'درآمد ناشی از تغییر قیمت اوراق '!$A$9:$I$29,9,0),0) -> 102139035011 | G19: =IFERROR(VLOOKUP(A19,'درآمد ناشی از فروش '!$A$7:$Q$35,9,0),0) -> 0 | I19: =C19+E19+G19 -> 102139035011 | K19: =I19/W$10 -> 0.11394331 | M19: =IFERROR(VLOOKUP(A19,'درآمد سود سهام '!$A$9:$S$26,19,0),0) -> 90790728477 | O19: =IFERROR(VLOOKUP(A19,'درآمد ناشی از تغییر قیمت اوراق '!$A$9:$Q$29,17,0),0) -> 150144572588 | Q19: =IFERROR(VLOOKUP(A19,'درآمد ناشی از فروش '!$A$9:$Q$35,17,0),0) -> 5016651036 | S19: =M19+O19+Q19 -> 245951952101 | U19: =S19/'جمع درآمدها'!$J$5 -> 0.056764699
A20: پتروشیمی شیراز | C20: =IFERROR(VLOOKUP(A20,'درآمد سود سهام '!$A$9:$S$26,13,0),0) -> 0 | E20: =IFERROR(VLOOKUP('سرمایه‌گذاری در سهام '!A20,'درآمد ناشی از تغییر قیمت اوراق '!$A$9:$I$29,9,0),0) -> 0 | G20: =IFERROR(VLOOKUP(A20,'درآمد ناشی از فروش '!$A$7:$Q$35,9,0),0) -> -12293047469 | I20: =C20+E20+G20 -> -12293047469 | K20: =I20/W$10 -> -0.013713763 | M20: =IFERROR(VLOOKUP(A20,'درآمد سود سهام '!$A$9:$S$26,19,0),0) -> 0 | O20: =IFERROR(VLOOKUP(A20,'درآمد ناشی از تغییر قیمت اوراق '!$A$9:$Q$29,17,0),0) -> 0 | Q20: =IFERROR(VLOOKUP(A20,'درآمد ناشی از فروش '!$A$9:$Q$35,17,0),0) -> -12293047469 | S20: =M20+O20+Q20 -> -12293047469 | U20: =S20/'جمع درآمدها'!$J$5 -> -0.0028371848
A21: پالایش نفت تبریز | C21: =IFERROR(VLOOKUP(A21,'درآمد سود سهام '!$A$9:$S$26,13,0),0) -> 0 | E21: =IFERROR(VLOOKUP('سرمایه‌گذاری در سهام '!A21,'درآمد ناشی از تغییر قیمت اوراق '!$A$9:$I$29,9,0),0) -> 39173154842 | G21: =IFERROR(VLOOKUP(A21,'درآمد ناشی از فروش '!$A$7:$Q$35,9,0),0) -> 6312502229 | I21: =C21+E21+G21 -> 45485657071 | K21: =I21/W$10 -> 0.050742464 | M21: =IFERROR(VLOOKUP(A21,'درآمد سود سهام '!$A$9:$S$26,19,0),0) -> 14020093458 | O21: =IFERROR(VLOOKUP(A21,'درآمد ناشی از تغییر قیمت اوراق '!$A$9:$Q$29,17,0),0) -> 40173748625 | Q21: =IFERROR(VLOOKUP(A21,'درآمد ناشی از فروش '!$A$9:$Q$35,17,0),0) -> 6312502229 | S21: =M21+O21+Q21 -> 60506344312 | U21: =S21/'جمع درآمدها'!$J$5 -> 0.013964615
A22: م .صنایع و معادن احیاء سپاهان | C22: =IFERROR(VLOOKUP(A22,'درآمد سود سهام '!$A$9:$S$26,13,0),0) -> 0 | E22: =IFERROR(VLOOKUP('سرمایه‌گذاری در سهام '!A22,'درآمد ناشی از تغییر قیمت اوراق '!$A$9:$I$29,9,0),0) -> 55815187500 | G22: =IFERROR(VLOOKUP(A22,'درآمد ناشی از فروش '!$A$7:$Q$35,9,0),0) -> 0 | I22: =C22+E22+G22 -> 55815187500 | K22: =I22/W$10 -> 0.062265785 | M22: =IFERROR(VLOOKUP(A22,'درآمد سود سهام '!$A$9:$S$26,19,0),0) -> 0 | O22: =IFERROR(VLOOKUP(A22,'درآمد ناشی از تغییر قیمت اوراق '!$A$9:$Q$29,17,0),0) -> 154621287465 | Q22: =IFERROR(VLOOKUP(A22,'درآمد ناشی از فروش '!$A$9:$Q$35,17,0),0) -> 52315255975 | R22: 9504112545 | S22: =M22+O22+Q22 -> 206936543440 | U22: =S22/'جمع درآمدها'!$J$5 -> 0.047760103
A23: مبین انرژی خلیج فارس | C23: =IFERROR(VLOOKUP(A23,'درآمد سود سهام '!$A$9:$S$26,13,0),0) -> 0 | E23: =IFERROR(VLOOKUP('سرمایه‌گذاری در سهام '!A23,'درآمد ناشی از تغییر قیمت اوراق '!$A$9:$I$29,9,0),0) -> 0 | G23: =IFERROR(VLOOKUP(A23,'درآمد ناشی از فروش '!$A$7:$Q$35,9,0),0) -> 0 | I23: =C23+E23+G23 -> 0 | K23: =I23/W$10 -> 0 | M23: =IFERROR(VLOOKUP(A23,'درآمد سود سهام '!$A$9:$S$26,19,0),0) -> 0 | O23: =IFERROR(VLOOKUP(A23,'درآمد ناشی از تغییر قیمت اوراق '!$A$9:$Q$29,17,0),0) -> 0 | Q23: =IFERROR(VLOOKUP(A23,'درآمد ناشی از فروش '!$A$9:$Q$35,17,0),0) -> 0 | S23: =M23+O23+Q23 -> 0 | U23: =S23/'جمع درآمدها'!$J$5 -> 0
A24: صنایع‌ لاستیکی‌ سهند | C24: =IFERROR(VLOOKUP(A24,'درآمد سود سهام '!$A$9:$S$26,13,0),0) -> 0 | E24: =IFERROR(VLOOKUP('سرمایه‌گذاری در سهام '!A24,'درآمد ناشی از تغییر قیمت اوراق '!$A$9:$I$29,9,0),0) -> 0 | G24: =IFERROR(VLOOKUP(A24,'درآمد ناشی از فروش '!$A$7:$Q$35,9,0),0) -> 0 | I24: =C24+E24+G24 -> 0 | K24: =I24/W$10 -> 0 | M24: =IFERROR(VLOOKUP(A24,'درآمد سود سهام '!$A$9:$S$26,19,0),0) -> 0 | O24: =IFERROR(VLOOKUP(A24,'درآمد ناشی از تغییر قیمت اوراق '!$A$9:$Q$29,17,0),0) -> 0 | Q24: =IFERROR(VLOOKUP(A24,'درآمد ناشی از فروش '!$A$9:$Q$35,17,0),0) -> 0 | S24: =M24+O24+Q24 -> 0 | U24: =S24/'جمع درآمدها'!$J$5 -> 0
A25: گروه مالی کیان | C25: =IFERROR(VLOOKUP(A25,'درآمد سود سهام '!$A$9:$S$26,13,0),0) -> 0 | E25: =IFERROR(VLOOKUP('سرمایه‌گذاری در سهام '!A25,'درآمد ناشی از تغییر قیمت اوراق '!$A$9:$I$29,9,0),0) -> -37488971803 | G25: =IFERROR(VLOOKUP(A25,'درآمد ناشی از فروش '!$A$7:$Q$35,9,0),0) -> 48608031223 | I25: =C25+E25+G25 -> 11119059420 | K25: =I25/W$10 -> 0.012404096 | M25: =IFERROR(VLOOKUP(A25,'درآمد سود سهام '!$A$9:$S$26,19,0),0) -> 24220000000 | O25: =IFERROR(VLOOKUP(A25,'درآمد ناشی از تغییر قیمت اوراق '!$A$9:$Q$29,17,0),0) -> 58725626230 | Q25: =IFERROR(VLOOKUP(A25,'درآمد ناشی از فروش '!$A$9:$Q$35,17,0),0) -> 129873209392 | R25: -1838175538 | S25: =M25+O25+Q25 -> 212818835622 | U25: =S25/'جمع درآمدها'!$J$5 -> 0.049117712
A26: صنایع پتروشیمی کرمانشاه | C26: =IFERROR(VLOOKUP(A26,'درآمد سود سهام '!$A$9:$S$26,13,0),0) -> 0 | E26: =IFERROR(VLOOKUP('سرمایه‌گذاری در سهام '!A26,'درآمد ناشی از تغییر قیمت اوراق '!$A$9:$I$29,9,0),0) -> 95841898028 | G26: =IFERROR(VLOOKUP(A26,'درآمد ناشی از فروش '!$A$7:$Q$35,9,0),0) -> 32087437776 | I26: =C26+E26+G26 -> 127929335804 | K26: =I26/W$10 -> 0.14271421 | M26: =IFERROR(VLOOKUP(A26,'درآمد سود سهام '!$A$9:$S$26,19,0),0) -> 23790439437 | O26: =IFERROR(VLOOKUP(A26,'درآمد ناشی از تغییر قیمت اوراق '!$A$9:$Q$29,17,0),0) -> 25827457049 | Q26: =IFERROR(VLOOKUP(A26,'درآمد ناشی از فروش '!$A$9:$Q$35,17,0),0) -> 32087437776 | S26: =M26+O26+Q26 -> 81705334262 | U26: =S26/'جمع درآمدها'!$J$5 -> 0.018857255
A27: ویتانا | C27: =IFERROR(VLOOKUP(A27,'درآمد سود سهام '!$A$9:$S$26,13,0),0) -> 0 | E27: =IFERROR(VLOOKUP('سرمایه‌گذاری در سهام '!A27,'درآمد ناشی از تغییر قیمت اوراق '!$A$9:$I$29,9,0),0) -> -24358880764 | G27: =IFERROR(VLOOKUP(A27,'درآمد ناشی از فروش '!$A$7:$Q$35,9,0),0) -> 0 | I27: =C27+E27+G27 -> -24358880764 | K27: =I27/W$10 -> -0.027174052 | M27: =IFERROR(VLOOKUP(A27,'درآمد سود سهام '!$A$9:$S$26,19,0),0) -> 0 | O27: =IFERROR(VLOOKUP(A27,'درآمد ناشی از تغییر قیمت اوراق '!$A$9:$Q$29,17,0),0) -> -24358880764 | Q27: =IFERROR(VLOOKUP(A27,'درآمد ناشی از فروش '!$A$9:$Q$35,17,0),0) -> 0 | S27: =M27+O27+Q27 -> -24358880764 | U27: =S27/'جمع درآمدها'!$J$5 -> -0.0056219295
A28: سیمان‌شاهرود | C28: =IFERROR(VLOOKUP(A28,'درآمد سود سهام '!$A$9:$S$26,13,0),0) -> 0 | E28: =IFERROR(VLOOKUP('سرمایه‌گذاری در سهام '!A28,'درآمد ناشی از تغییر قیمت اوراق '!$A$9:$I$29,9,0),0) -> 0 | G28: =IFERROR(VLOOKUP(A28,'درآمد ناشی از فروش '!$A$7:$Q$35,9,0),0) -> 0 | I28: =C28+E28+G28 -> 0 | K28: =I28/W$10 -> 0 | M28: =IFERROR(VLOOKUP(A28,'درآمد سود سهام '!$A$9:$S$26,19,0),0) -> 0 | O28: =IFERROR(VLOOKUP(A28,'درآمد ناشی از تغییر قیمت اوراق '!$A$9:$Q$29,17,0),0) -> 0 | Q28: =IFERROR(VLOOKUP(A28,'درآمد ناشی از فروش '!$A$9:$Q$35,17,0),0) -> 0 | S28: =M28+O28+Q28 -> 0 | U28: =S28/'جمع درآمدها'!$J$5 -> 0
A29: پخش البرز | C29: =IFERROR(VLOOKUP(A29,'درآمد سود سهام '!$A$9:$S$26,13,0),0) -> 0 | E29: =IFERROR(VLOOKUP('سرمایه‌گذاری در سهام '!A29,'درآمد ناشی از تغییر قیمت اوراق '!$A$9:$I$29,9,0),0) -> 0 | G29: =IFERROR(VLOOKUP(A29,'درآمد ناشی از فروش '!$A$7:$Q$35,9,0),0) -> 0 | I29: =C29+E29+G29 -> 0 | K29: =I29/W$10 -> 0 | M29: =IFERROR(VLOOKUP(A29,'درآمد سود سهام '!$A$9:$S$26,19,0),0) -> 20910032157 | O29: =IFERROR(VLOOKUP(A29,'درآمد ناشی از تغییر قیمت اوراق '!$A$9:$Q$29,17,0),0) -> 0 | Q29: =IFERROR(VLOOKUP(A29,'درآمد ناشی از فروش '!$A$9:$Q$35,17,0),0) -> 228404351666 | S29: =M29+O29+Q29 -> 249314383823 | U29: =S29/'جمع درآمدها'!$J$5 -> 0.057540735
A30: توزیع دارو پخش | C30: =IFERROR(VLOOKUP(A30,'درآمد سود سهام '!$A$9:$S$26,13,0),0) -> 0 | E30: =IFERROR(VLOOKUP('سرمایه‌گذاری در سهام '!A30,'درآمد ناشی از تغییر قیمت اوراق '!$A$9:$I$29,9,0),0) -> 0 | G30: =IFERROR(VLOOKUP(A30,'درآمد ناشی از فروش '!$A$7:$Q$35,9,0),0) -> 0 | I30: =C30+E30+G30 -> 0 | K30: =I30/W$10 -> 0 | M30: =IFERROR(VLOOKUP(A30,'درآمد سود سهام '!$A$9:$S$26,19,0),0) -> 0 | O30: =IFERROR(VLOOKUP(A30,'درآمد ناشی از تغییر قیمت اوراق '!$A$9:$Q$29,17,0),0) -> 0 | Q30: =IFERROR(VLOOKUP(A30,'درآمد ناشی از فروش '!$A$9:$Q$35,17,0),0) -> 0 | S30: =M30+O30+Q30 -> 0 | U30: =S30/'جمع درآمدها'!$J$5 -> 0
A31: زغال سنگ پروده طبس | C31: =IFERROR(VLOOKUP(A31,'درآمد سود سهام '!$A$9:$S$26,13,0),0) -> 0 | E31: =IFERROR(VLOOKUP('سرمایه‌گذاری در سهام '!A31,'درآمد ناشی از تغییر قیمت اوراق '!$A$9:$I$29,9,0),0) -> 14148109957 | G31: =IFERROR(VLOOKUP(A31,'درآمد ناشی از فروش '!$A$7:$Q$35,9,0),0) -> 59180643915 | I31: =C31+E31+G31 -> 73328753872 | K31: =I31/W$10 -> 0.081803405 | M31: =IFERROR(VLOOKUP(A31,'درآمد سود سهام '!$A$9:$S$26,19,0),0) -> 3979098361 | O31: =IFERROR(VLOOKUP(A31,'درآمد ناشی از تغییر قیمت اوراق '!$A$9:$Q$29,17,0),0) -> 108220840043 | Q31: =IFERROR(VLOOKUP(A31,'درآمد ناشی از فروش '!$A$9:$Q$35,17,0),0) -> 73831514917 | S31: =M31+O31+Q31 -> 186031453321 | U31: =S31/'جمع درآمدها'!$J$5 -> 0.042935294
A32: سپید ماکیان | C32: =IFERROR(VLOOKUP(A32,'درآمد سود سهام '!$A$9:$S$26,13,0),0) -> 0 | E32: =IFERROR(VLOOKUP('سرمایه‌گذاری در سهام '!A32,'درآمد ناشی از تغییر قیمت اوراق '!$A$9:$I$29,9,0),0) -> 0 | G32: =IFERROR(VLOOKUP(A32,'درآمد ناشی از فروش '!$A$7:$Q$35,9,0),0) -> 0 | I32: =C32+E32+G32 -> 0 | K32: =I32/W$10 -> 0 | M32: =IFERROR(VLOOKUP(A32,'درآمد سود سهام '!$A$9:$S$26,19,0),0) -> 27000000000 | O32: =IFERROR(VLOOKUP(A32,'درآمد ناشی از تغییر قیمت اوراق '!$A$9:$Q$29,17,0),0) -> 0 | Q32: =IFERROR(VLOOKUP(A32,'درآمد ناشی از فروش '!$A$9:$Q$35,17,0),0) -> 243574489790 | S32: =M32+O32+Q32 -> 270574489790 | U32: =S32/'جمع درآمدها'!$J$5 -> 0.06244748
A33: کاشی‌ الوند | C33: =IFERROR(VLOOKUP(A33,'درآمد سود سهام '!$A$9:$S$26,13,0),0) -> 0 | E33: =IFERROR(VLOOKUP('سرمایه‌گذاری در سهام '!A33,'درآمد ناشی از تغییر قیمت اوراق '!$A$9:$I$29,9,0),0) -> 0 | G33: =IFERROR(VLOOKUP(A33,'درآمد ناشی از فروش '!$A$7:$Q$35,9,0),0) -> 0 | I33: =C33+E33+G33 -> 0 | K33: =I33/W$10 -> 0 | M33: =IFERROR(VLOOKUP(A33,'درآمد سود سهام '!$A$9:$S$26,19,0),0) -> 6723684211 | O33: =IFERROR(VLOOKUP(A33,'درآمد ناشی از تغییر قیمت اوراق '!$A$9:$Q$29,17,0),0) -> 0 | Q33: =IFERROR(VLOOKUP(A33,'درآمد ناشی از فروش '!$A$9:$Q$35,17,0),0) -> 28128891318 | S33: =M33+O33+Q33 -> 34852575529 | U33: =S33/'جمع درآمدها'!$J$5 -> 0.0080438311
A34: بیمه اتکایی امین | C34: =IFERROR(VLOOKUP(A34,'درآمد سود سهام '!$A$9:$S$26,13,0),0) -> 0 | E34: =IFERROR(VLOOKUP('سرمایه‌گذاری در سهام '!A34,'درآمد ناشی از تغییر قیمت اوراق '!$A$9:$I$29,9,0),0) -> 0 | G34: =IFERROR(VLOOKUP(A34,'درآمد ناشی از فروش '!$A$7:$Q$35,9,0),0) -> 0 | I34: =C34+E34+G34 -> 0 | K34: =I34/W$10 -> 0 | M34: =IFERROR(VLOOKUP(A34,'درآمد سود سهام '!$A$9:$S$26,19,0),0) -> 0 | O34: =IFERROR(VLOOKUP(A34,'درآمد ناشی از تغییر قیمت اوراق '!$A$9:$Q$29,17,0),0) -> 0 | Q34: =IFERROR(VLOOKUP(A34,'درآمد ناشی از فروش '!$A$9:$Q$35,17,0),0) -> 0 | S34: =M34+O34+Q34 -> 0 | U34: =S34/'جمع درآمدها'!$J$5 -> 0
A35: موتوژن‌ | C35: =IFERROR(VLOOKUP(A35,'درآمد سود سهام '!$A$9:$S$26,13,0),0) -> 0 | D35: =IFERROR(VLOOKUP(#REF!,'درآمد ناشی از تغییر قیمت اوراق '!$A$9:$Q$21,9,0),0) -> 0 | E35: =IFERROR(VLOOKUP('سرمایه‌گذاری در سهام '!A35,'درآمد ناشی از تغییر قیمت اوراق '!$A$9:$I$29,9,0),0) -> 16074774000 | G35: =IFERROR(VLOOKUP(A35,'درآمد ناشی از فروش '!$A$7:$Q$35,9,0),0) -> 0 | I35: =C35+E35+G35 -> 16074774000 | K35: =I35/W$10 -> 0.017932546 | M35: =IFERROR(VLOOKUP(A35,'درآمد سود سهام '!$A$9:$S$26,19,0),0) -> 0 | O35: =IFERROR(VLOOKUP(A35,'درآمد ناشی از تغییر قیمت اوراق '!$A$9:$Q$29,17,0),0) -> 71388928760 | Q35: =IFERROR(VLOOKUP(A35,'درآمد ناشی از فروش '!$A$9:$Q$35,17,0),0) -> 3612532900 | S35: =M35+O35+Q35 -> 75001461660 | U35: =S35/'جمع درآمدها'!$J$5 -> 0.017310029
A36: سبحان دارو | C36: =IFERROR(VLOOKUP(A36,'درآمد سود سهام '!$A$9:$S$26,13,0),0) -> 0 | E36: =IFERROR(VLOOKUP('سرمایه‌گذاری در سهام '!A36,'درآمد ناشی از تغییر قیمت اوراق '!$A$9:$I$29,9,0),0) -> -176224301002 | G36: =IFERROR(VLOOKUP(A36,'درآمد ناشی از فروش '!$A$7:$Q$35,9,0),0) -> 187238500232 | I36: =C36+E36+G36 -> 11014199230 | K36: =I36/W$10 -> 0.012287117 | M36: =IFERROR(VLOOKUP(A36,'درآمد سود سهام '!$A$9:$S$26,19,0),0) -> 0 | O36: =IFERROR(VLOOKUP(A36,'درآمد ناشی از تغییر قیمت اوراق '!$A$9:$Q$29,17,0),0) -> 0 | Q36: =IFERROR(VLOOKUP(A36,'درآمد ناشی از فروش '!$A$9:$Q$35,17,0),0) -> 187238500232 | S36: =M36+O36+Q36 -> 187238500232 | U36: =S36/'جمع درآمدها'!$J$5 -> 0.043213876
A37: مهرمام میهن | C37: =IFERROR(VLOOKUP(A37,'درآمد سود سهام '!$A$9:$S$26,13,0),0) -> 0 | E37: =IFERROR(VLOOKUP('سرمایه‌گذاری در سهام '!A37,'درآمد ناشی از تغییر قیمت اوراق '!$A$9:$I$29,9,0),0) -> 480815501 | G37: =IFERROR(VLOOKUP(A37,'درآمد ناشی از فروش '!$A$7:$Q$35,9,0),0) -> 0 | I37: =C37+E37+G37 -> 480815501 | K37: =I37/W$10 -> 0.00053638366 | M37: =IFERROR(VLOOKUP(A37,'درآمد سود سهام '!$A$9:$S$26,19,0),0) -> 0 | O37: =IFERROR(VLOOKUP(A37,'درآمد ناشی از تغییر قیمت اوراق '!$A$9:$Q$29,17,0),0) -> 480815501 | Q37: =IFERROR(VLOOKUP(A37,'درآمد ناشی از فروش '!$A$9:$Q$35,17,0),0) -> 0 | S37: =M37+O37+Q37 -> 480815501 | U37: =S37/'جمع درآمدها'!$J$5 -> 0.00011097024
A38: ح.مهرمام میهن | C38: =IFERROR(VLOOKUP(A38,'درآمد سود سهام '!$A$9:$S$26,13,0),0) -> 0 | E38: =IFERROR(VLOOKUP('سرمایه‌گذاری در سهام '!A38,'درآمد ناشی از تغییر قیمت اوراق '!$A$9:$I$29,9,0),0) -> 14412859206 | G38: =IFERROR(VLOOKUP(A38,'درآمد ناشی از فروش '!$A$7:$Q$35,9,0),0) -> 0 | I38: =C38+E38+G38 -> 14412859206 | K38: =I38/W$10 -> 0.016078563 | M38: =IFERROR(VLOOKUP(A38,'درآمد سود سهام '!$A$9:$S$26,19,0),0) -> 0 | O38: =IFERROR(VLOOKUP(A38,'درآمد ناشی از تغییر قیمت اوراق '!$A$9:$Q$29,17,0),0) -> 14412859206 | Q38: =IFERROR(VLOOKUP(A38,'درآمد ناشی از فروش '!$A$9:$Q$35,17,0),0) -> 0 | R38: 15459956769 | S38: =M38+O38+Q38 -> 14412859206 | U38: =S38/'جمع درآمدها'!$J$5 -> 0.0033264286
A39: معدنی‌ املاح‌ ایران‌ | C39: =IFERROR(VLOOKUP(A39,'درآمد سود سهام '!$A$9:$S$26,13,0),0) -> 0 | E39: =IFERROR(VLOOKUP('سرمایه‌گذاری در سهام '!A39,'درآمد ناشی از تغییر قیمت اوراق '!$A$9:$I$29,9,0),0) -> 51965577214 | G39: =IFERROR(VLOOKUP(A39,'درآمد ناشی از فروش '!$A$7:$Q$35,9,0),0) -> 0 | I39: =C39+E39+G39 -> 51965577214 | K39: =I39/W$10 -> 0.057971272 | M39: =IFERROR(VLOOKUP(A39,'درآمد سود سهام '!$A$9:$S$26,19,0),0) -> 0 | O39: =IFERROR(VLOOKUP(A39,'درآمد ناشی از تغییر قیمت اوراق '!$A$9:$Q$29,17,0),0) -> 69952511703 | Q39: =IFERROR(VLOOKUP(A39,'درآمد ناشی از فروش '!$A$9:$Q$35,17,0),0) -> 0 | S39: =M39+O39+Q39 -> 69952511703 | U39: =S39/'جمع درآمدها'!$J$5 -> 0.016144752
A40: سیمان ایلام | C40: =IFERROR(VLOOKUP(A40,'درآمد سود سهام '!$A$9:$S$26,13,0),0) -> 0 | E40: =IFERROR(VLOOKUP('سرمایه‌گذاری در سهام '!A40,'درآمد ناشی از تغییر قیمت اوراق '!$A$9:$I$29,9,0),0) -> 5358258000 | G40: =IFERROR(VLOOKUP(A40,'درآمد ناشی از فروش '!$A$7:$Q$35,9,0),0) -> 0 | I40: =C40+E40+G40 -> 5358258000 | K40: =I40/W$10 -> 0.0059775153 | M40: =IFERROR(VLOOKUP(A40,'درآمد سود سهام '!$A$9:$S$26,19,0),0) -> 4806000000 | O40: =IFERROR(VLOOKUP(A40,'درآمد ناشی از تغییر قیمت اوراق '!$A$9:$Q$29,17,0),0) -> 32649652145 | Q40: =IFERROR(VLOOKUP(A40,'درآمد ناشی از فروش '!$A$9:$Q$35,17,0),0) -> 7535941141 | S40: =M40+O40+Q40 -> 44991593286 | U40: =S40/'جمع درآمدها'!$J$5 -> 0.010383875
A41: تولیدمواداولیه‌داروپخش‌ | C41: =IFERROR(VLOOKUP(A41,'درآمد سود سهام '!$A$9:$S$26,13,0),0) -> 0 | E41: =IFERROR(VLOOKUP('سرمایه‌گذاری در سهام '!A41,'درآمد ناشی از تغییر قیمت اوراق '!$A$9:$I$29,9,0),0) -> 1487310045 | G41: =IFERROR(VLOOKUP(A41,'درآمد ناشی از فروش '!$A$7:$Q$35,9,0),0) -> 8269134525 | I41: =C41+E41+G41 -> 9756444570 | K41: =I41/W$10 -> 0.010884003 | M41: =IFERROR(VLOOKUP(A41,'درآمد سود سهام '!$A$9:$S$26,19,0),0) -> 3199203187 | O41: =IFERROR(VLOOKUP(A41,'درآمد ناشی از تغییر قیمت اوراق '!$A$9:$Q$29,17,0),0) -> 49555269423 | Q41: =IFERROR(VLOOKUP(A41,'درآمد ناشی از فروش '!$A$9:$Q$35,17,0),0) -> 8269134525 | S41: =M41+O41+Q41 -> 61023607135 | U41: =S41/'جمع درآمدها'!$J$5 -> 0.014083998
A42: پتروشیمی‌شیراز | C42: =IFERROR(VLOOKUP(A42,'درآمد سود سهام '!$A$9:$S$26,13,0),0) -> 0 | E42: =IFERROR(VLOOKUP('سرمایه‌گذاری در سهام '!A42,'درآمد ناشی از تغییر قیمت اوراق '!$A$9:$I$29,9,0),0) -> 27388069832 | G42: =IFERROR(VLOOKUP(A42,'درآمد ناشی از فروش '!$A$7:$Q$35,9,0),0) -> 0 | I42: =C42+E42+G42 -> 27388069832 | K42: =I42/W$10 -> 0.030553327 | M42: =IFERROR(VLOOKUP(A42,'درآمد سود سهام '!$A$9:$S$26,19,0),0) -> 6871521739 | O42: =IFERROR(VLOOKUP(A42,'درآمد ناشی از تغییر قیمت اوراق '!$A$9:$Q$29,17,0),0) -> -4376065689 | Q42: =IFERROR(VLOOKUP(A42,'درآمد ناشی از فروش '!$A$9:$Q$35,17,0),0) -> 0 | S42: =M42+O42+Q42 -> 2495456050 | U42: =S42/'جمع درآمدها'!$J$5 -> 0.000575941
A43: توسعه‌معادن‌وفلزات‌ | C43: =IFERROR(VLOOKUP(A43,'درآمد سود سهام '!$A$9:$S$26,13,0),0) -> 0 | E43: =IFERROR(VLOOKUP('سرمایه‌گذاری در سهام '!A43,'درآمد ناشی از تغییر قیمت اوراق '!$A$9:$I$29,9,0),0) -> 0 | G43: =IFERROR(VLOOKUP(A43,'درآمد ناشی از فروش '!$A$7:$Q$35,9,0),0) -> 0 | I43: =C43+E43+G43 -> 0 | K43: =I43/W$10 -> 0 | M43: =IFERROR(VLOOKUP(A43,'درآمد سود سهام '!$A$9:$S$26,19,0),0) -> 0 | O43: =IFERROR(VLOOKUP(A43,'درآمد ناشی از تغییر قیمت اوراق '!$A$9:$Q$29,17,0),0) -> 0 | Q43: =IFERROR(VLOOKUP(A43,'درآمد ناشی از فروش '!$A$9:$Q$35,17,0),0) -> 1210715579 | S43: =M43+O43+Q43 -> 1210715579 | U43: =S43/'جمع درآمدها'!$J$5 -> 0.00027942818
...

Sheet درآمد سرمایه گذاری در کالا  
A1: صندوق سرمایه گذاری آهنگ سهام کیان
A2: صورت وضعیت درآمدها
A3: برای ماه منتهی به 1405/06/31
A5: 2-2- درآمد حاصل از سرمایه گذاری در گواهی سپرده کالایی:
C7: طی شهریور ماه | M7: از ابتدای سال مالی تا پایان شهریور ماه
A8: سهام | C8: درآمد سود سهام | E8: درآمد تغییر ارزش | G8: درآمد فروش | I8: جمع | M8: درآمد سود سهام | O8: درآمد تغییر ارزش | Q8: درآمد فروش | S8: جمع
C10: یادداشت الف | E10: یادداشت ب | G10: یادداشت ج | I10: مبلغ | K10: درصد از کل درآمدها | M10: یادداشت الف | O10: یادداشت ب | Q10: یادداشت ج | S10: مبلغ | U10: درصد از کل درآمدها
A11: شمش طلا CD1GOB0001 | C11: 0 | E11: =IFERROR(VLOOKUP(A11,'درآمد ناشی از تغییر قیمت اوراق '!$A$7:$Q$27,9,0),0) -> 68585354946 | G11: 0 | I11: =C11+E11+G11 -> 68585354946 | K11: =I11/'سرمایه‌گذاری در سهام '!W10 -> 0.076511809 | M11: 0 | O11: =IFERROR(VLOOKUP(A11,'درآمد ناشی از تغییر قیمت اوراق '!$A$7:$Q$27,17,0),0) -> 126092629289 | R11: 0 | S11: =M11+O11+Q11 -> 126092629289 | U11: =S11/'جمع درآمدها'!$J$5 -> 0.02910166
C12: =SUM(C11:C11) -> 0 | D12: 0 | E12: =SUM(E11:E11) -> 68585354946 | F12: 0 | G12: =SUM(G11:G11) -> 0 | H12: 0 | I12: =SUM(I11:I11) -> 68585354946 | J12: 0 | K12: =SUM(K11:K11) -> 0.076511809 | M12: =SUM(M11:M11) -> 0 | O12: =SUM(O11:O11) -> 126092629289 | Q12: =SUM(Q11:Q11) -> 0 | S12: =SUM(S11:S11) -> 126092629289 | U12: =SUM(U11:U11) -> 0.02910166

Sheet سرمایه‌گذاری در اوراق بهادار 
A2: صندوق سرمایه‌گذاری آهنگ سهام کیان
A3: ='سرمایه‌گذاری در سهام '!A3:U3 -> صورت وضعیت درآمدها | C3: صورت وضعیت درآمدها | D3: صورت وضعیت درآمدها | E3: صورت وضعیت درآمدها | F3: صورت وضعیت درآمدها | G3: صورت وضعیت درآمدها
A4: ='سرمایه‌گذاری در سهام '!A4:U4 -> برای ماه منتهی به 1405/06/31 | C4: ='سرمایه‌گذاری در سهام '!A4:U4 -> 0 | D4: برای ماه منتهی به 1398/04/31 | E4: برای ماه منتهی به 1398/04/31 | F4: برای ماه منتهی به 1398/04/31 | G4: برای ماه منتهی به 1398/04/31
A6: 3-2-درآمد حاصل از سرمایه­گذاری در اوراق بهادار با درآمد ثابت:
A8: توضیحات | C8: ='درآمد ناشی از فروش '!C7 -> طی شهریور ماه | D8: طی ماه | E8: طی ماه | F8: طی ماه | G8: طی ماه | H8: طی ماه | I8: طی ماه | K8: ='درآمد ناشی از فروش '!K7 -> از ابتدای سال مالی تا پایان شهریور ماه | L8: از ابتدای سال مالی تا پایان ماه | M8: از ابتدای سال مالی تا پایان ماه | N8: از ابتدای سال مالی تا پایان ماه | O8: از ابتدای سال مالی تا پایان ماه | P8: از ابتدای سال مالی تا پایان ماه | Q8: از ابتدای سال مالی تا پایان ماه
A9: توضیحات | C9: درآمد سود اوراق | E9: درآمد تغییر ارزش | G9: درآمد فروش | I9: جمع | K9: درآمد سود اوراق | M9: درآمد تغییر ارزش | O9: درآمد فروش | Q9: جمع
C10: 0 | E10: 0 | G10: 0 | I10: =C10+E10+G10 -> 0 | K10: 0 | M10: 0 | O10: 0 | Q10: 0
C11: =SUM(C10:C10) -> 0 | D11: =SUM(D10:D10) -> 0 | E11: =SUM(E10:E10) -> 0 | F11: =SUM(F10:F10) -> 0 | G11: =SUM(G10:G10) -> 0 | H11: =SUM(H10:H10) -> 0 | I11: =SUM(I10:I10) -> 0 | J11: =SUM(J10:J10) -> 0 | ... R11: =SUM(R10:R10) -> 0

Sheet درآمد سپرده بانکی 
A2: صندوق سرمایه‌گذاری آهنگ سهام کیان
A3: ='سرمایه‌گذاری در اوراق بهادار '!A3:Q3 -> صورت وضعیت درآمدها | B3: صورت وضعیت درآمدها | C3: صورت وضعیت درآمدها | D3: صورت وضعیت درآمدها
A4: ='سرمایه‌گذاری در اوراق بهادار '!A4:Q4 -> برای ماه منتهی به 1405/06/31 | B4: برای ماه منتهی به 1399/04/31 | C4: برای ماه منتهی به 1398/03/31 | D4: برای ماه منتهی به 1398/03/31
A6: 4-2-درآمد حاصل از سرمایه گذاری در سپرده بانکی و گواهی سپرده:
A8: نام سپرده بانکی | B8: نام سپرده بانکی | C8: ='درآمد ناشی از فروش '!C7 -> طی شهریور ماه | D8: طی ماه | E8: طی ماه | G8: ='درآمد ناشی از فروش '!K7 -> از ابتدای سال مالی تا پایان شهریور ماه | H8: از ابتدای سال مالی تا پایان ماه | I8: از ابتدای سال مالی تا پایان ماه
A9: نام سپرده | C9: سود سپرده بانکی و گواهی سپرده | E9: درصد سود به میانگین سپرده | G9: سود سپرده بانکی و گواهی سپرده | I9: درصد سود به میانگین سپرده
A10: سپرده کوتاه مدت بانک خاورمیانه مهستان | C10: 5137302 | E10: =C10/$C$27 -> 0.00021082946 | G10: 89596529 | I10: =G10/$G$27 -> 0.0028660804
A11: سپرده کوتاه مدت بانک اقتصاد نوین توحید | C11: 564738 | E11: =C11/$C$27 -> 2.3176252e-05 | G11: 3450045 | I11: =G11/$G$27 -> 0.0001103626
A12: سپرده کوتاه مدت بانک سامان زعفرانیه | C12: 2340 | E12: =C12/$C$27 -> 9.6031132e-08 | G12: 13829 | I12: =G12/$G$27 -> 4.4237233e-07
A13: سپرده کوتاه مدت بانک ملی الوند | C13: 0 | E13: =C13/$C$27 -> 0 | G13: 0 | I13: =G13/$G$27 -> 0
A14: سپرده کوتاه مدت بانک پاسارگاد الوند | C14: 6250 | E14: =C14/$C$27 -> 2.5649341e-07 | G14: 39694 | I14: =G14/$G$27 -> 1.2697612e-06
A15: سپرده کوتاه مدت بانک دی حافظ | C15: 19854 | E15: =C15/$C$27 -> 8.1478722e-07 | G15: 187508 | I15: =G15/$G$27 -> 5.9981453e-06
A16: سپرده کوتاه مدت بانک دی دروس | C16: 0 | E16: =C16/$C$27 -> 0 | G16: 0 | I16: =G16/$G$27 -> 0
A17: سپرده بلند مدت بانک دی دروس | C17: 0 | E17: =C17/$C$27 -> 0 | G17: 0 | I17: =G17/$G$27 -> 0
A18: سپرده بلند مدت بانک دی دروس | C18: 0 | E18: =C18/$C$27 -> 0 | G18: 0 | I18: =G18/$G$27 -> 0
A19: سپرده بلند مدت بانک دی دروس | C19: 0 | E19: =C19/$C$27 -> 0 | G19: 0 | I19: =G19/$G$27 -> 0
A20: سپرده کوتاه مدت بانک ملت جهان کودک | C20: 4443 | E20: =C20/$C$27 -> 1.8233603e-07 | G20: 26101 | I20: =G20/$G$27 -> 8.3493819e-07
A21: سپرده کوتاه مدت بانک صادرات جمهوری | C21: 2915025 | E21: =C21/$C$27 -> 0.00011962955 | G21: 17304160 | I21: =G21/$G$27 -> 0.00055353833
... A26: سپرده کوتاه مدت بانک گردشگری بلوار فردوس | C26: 24351245397 | E26: =C26/$C$27 -> 0.99934943 | G26: 26709769921 | I26: =G26/$G$27 -> 0.85441197
C27: =SUM(C10:C26) -> 24367097939 | D27: =SUM(D10:D12) -> 0 | E27: =SUM(E10:E26) -> 1 | F27: =SUM(F10:F12) -> 0 | G27: =SUM(G10:G26) -> 31260996769 | H27: =SUM(H10:H12) -> 0 | I27: =SUM(I10:I26) -> 1 | J27: =SUM(J10:J12) -> 0

Sheet سایر درآمدها 
A2: صندوق سرمایه‌گذاری آهنگ سهام کیان
A3: صورت وضعیت درآمدها | B3: صورت وضعیت درآمدها | C3: صورت وضعیت درآمدها | D3: صورت وضعیت درآمدها
A4: ='درآمد سپرده بانکی '!A4:K4 -> برای ماه منتهی به 1405/06/31 | B4: برای ماه منتهی به 1398/03/31 | C4: برای ماه منتهی به 1398/03/31 | D4: برای ماه منتهی به 1398/03/31
A6: 5-2-سایر درآمدها:
A8: سایر درآمدها | C8: ='درآمد ناشی از فروش '!C7 -> طی شهریور ماه | E8: ='درآمد ناشی از فروش '!K7 -> از ابتدای سال مالی تا پایان شهریور ماه
A9: سایر درآمدها | C9: مبلغ | E9: مبلغ
A10: سایر درآمدها | C10: 0 | E10: 3862952470
A11: معین برای سایر درآمدهای تنزیل سود بانک | C11: 0 | E11: 6479
A12: تعدیل کارمزد کارگزار | C12: 5135809420 | E12: 7442437024
C13: =SUM(C10:C12) -> 5135809420 | E13: =SUM(E10:E12) -> 11305395973

Sheet درآمد سود سهام 
A2: صندوق سرمایه‌گذاری آهنگ سهام کیان
A3: صورت وضعیت درآمدها
A4: ='جمع درآمدها'!A4:I4 -> برای ماه منتهی به 1405/06/31
A6: الف-درآمد سود سهام
A7: نام شرکت | C7: اطلاعات مجمع | D7: اطلاعات مجمع | E7: اطلاعات مجمع | F7: اطلاعات مجمع | G7: اطلاعات مجمع | I7: ='سودسپرده بانکی '!C7 -> طی شهریور ماه | J7: طی ماه | K7: طی ماه | L7: طی ماه | M7: طی ماه | O7: ='سودسپرده بانکی '!I7 -> از ابتدای سال مالی تا پایان شهریور ماه | P7: از ابتدای سال مالی تا پایان ماه | Q7: از ابتدای سال مالی تا پایان ماه | R7: از ابتدای سال مالی تا پایان ماه | S7: از ابتدای سال مالی تا پایان ماه
A8: نام شرکت | C8: تاریخ مجمع | E8: تعداد سهام متعلقه در زمان مجمع | G8: سود متعلق به هر سهم | I8: جمع درآمد سود سهام | K8: هزینه تنزیل | M8: خالص درآمد سود سهام | O8: جمع درآمد سود سهام | Q8: هزینه تنزیل | S8: خالص درآمد سود سهام
A9: سیمان‌ ایلام‌ | C9: 1405/02/30 | E9: 5400000 | G9: 890 | I9: 0 | K9: 0 | M9: 0 | O9: 4806000000 | Q9: 0 | S9: =O9-Q9 -> 4806000000
A10: البرزدارو | C10: 1405/02/30 | E10: 58821551 | G10: 180 | I10: 0 | K10: 0 | M10: 0 | O10: 10587879180 | Q10: 0 | S10: =O10-Q10 -> 10587879180
A11: پتروشیمی‌شیراز | C11: 1405/03/27 | E11: 1000000 | G11: 6928 | I11: 0 | K11: 0 | M11: =I11-K11 -> 0 | O11: 6928000000 | Q11: -56478261 | S11: =O11+Q11 -> 6871521739
A12: پخش البرز | C12: 1405/03/31 | E12: 42936411 | G12: 487 | I12: 0 | K12: 0 | M12: =I12-K12 -> 0 | O12: 20910032157 | Q12: 0 | S12: =O12-Q12 -> 20910032157
A13: سیمان خوزستان | C13: 1405/04/21 | E13: 9800000 | G13: 14600 | I13: 0 | K13: 0 | M13: =I13-K13 -> 0 | O13: 143080000000 | Q13: 0 | R13: =SUM(#REF!) -> #REF! | S13: =O13-Q13 -> 143080000000
A14: تولیدمواداولیه‌داروپخش‌ | C14: 1405/04/16 | E14: 1200000 | G14: 2750 | I14: 0 | K14: 0 | M14: =I14-K14 -> 0 | O14: 3300000000 | Q14: -100796813 | S14: =O14+Q14 -> 3199203187
A15: بانک خاورمیانه | C15: 1405/04/31 | E15: 47000000 | G15: 166 | I15: 0 | K15: 0 | M15: =I15-K15 -> 0 | O15: 7802000000 | Q15: 0 | S15: =O15-Q15 -> 7802000000
A16: کربن‌ ایران‌ | C16: 1405/04/21 | E16: 60000000 | G16: 1565 | I16: 0 | K16: 0 | M16: =I16-K16 -> 0 | O16: 93900000000 | Q16: -3109271523 | S16: =O16+Q16 -> 90790728477
A17: کاشی‌ الوند | C17: 1405/04/31 | E17: 20000000 | G17: 350 | I17: 0 | K17: 0 | M17: =I17-K17 -> 0 | O17: 7000000000 | Q17: -276315789 | S17: =O17+Q17 -> 6723684211
A18: سپید ماکیان | C18: 1405/03/27 | E18: 18000000 | G18: 1500 | I18: 0 | K18: 0 | M18: =I18-K18 -> 0 | O18: 27000000000 | Q18: 0 | S18: =O18-Q18 -> 27000000000
A19: صنایع پتروشیمی کرمانشاه | C19: 1405/04/17 | E19: 20000001 | G19: 1227 | I19: 0 | K19: 0 | M19: =I19-K19 -> 0 | O19: 24540001227 | Q19: -749561790 | S19: =O19+Q19 -> 23790439437
A20: پالایش نفت تبریز | C20: 1405/04/22 | E20: 3000000 | G20: 4795 | I20: 0 | K20: 0 | M20: =I20-K20 -> 0 | O20: 14385000000 | Q20: -364906542 | S20: =O20+Q20 -> 14020093458
A21: گروه مالی کیان | C21: 1405/04/30 | E21: 17300000 | G21: 1400 | I21: 0 | K21: 0 | M21: =I21-K21 -> 0 | O21: 24220000000 | Q21: 0 | S21: 24220000000
A22: زغال سنگ پروده طبس | C22: 1405/04/28 | E22: 114000000 | G22: 35 | I22: 0 | K22: 0 | M22: =I22-K22 -> 0 | O22: 3990000000 | Q22: -10901639 | S22: =O22+Q22 -> 3979098361
A23: موتوژن‌ | C23: 1404/10/11 | E23: 60000000 | G23: 290 | M23: =I23+K23 -> 0 | O23: 0 | S23: =O23+Q23 -> 0
A24: سیمان مازندران | C24: 1404/11/20 | E24: 8500000 | G24: 8300 | I24: 0 | K24: 0 | M24: =I24+K24 -> 0 | O24: 0 | Q24: 0 | S24: =O24+Q24 -> 0
A25: شیشه‌ و گاز | C25: 1405/06/02 | E25: 13000000 | G25: 2520 | I25: 32760000000 | K25: -1862325581 | M25: =I25+K25 -> 30897674419 | O25: 32760000000 | Q25: -1862325581 | S25: =O25+Q25 -> 30897674419
A26: پگاه‌آذربایجان‌غربی‌ | C26: 1404/12/05 | E26: 3053256 | G26: 1000 | I26: 0 | K26: 0 | M26: =I26+K26 -> 0 | O26: 0 | Q26: 0 | S26: =O26+Q26 -> 0
A27: جمع | F27: =SUM(F9:F18) -> 0 | I27: =SUM(I9:I26) -> 32760000000 | J27: =SUM(J9:J19) -> 0 | K27: =SUM(K9:K26) -> -1862325581 | L27: =SUM(L9:L19) -> 0 | M27: =SUM(M9:M26) -> 30897674419 | N27: =SUM(N9:N19) -> 0 | O27: =SUM(O9:O26) -> 425208912564 | P27: =SUM(P9:P19) -> 0 | Q27: =SUM(Q9:Q26) -> -6530557938 | R27: =SUM(R9:R19) -> #REF! | S27: =SUM(S9:S26) -> 418678354626

Sheet سود اوراق بهادار
A2: صندوق سرمایه‌گذاری آهنگ سهام کیان
A3: صورت وضعیت درآمدها
A4: ='جمع درآمدها'!A4:I4 -> برای ماه منتهی به 1405/06/31
A6: ب-سود اوراق بهادار با درآمد ثابت
A7: مشخصات | C7: طی شهریور ماه | I7: از ابتدای سال مالی تا پایان شهریور ماه | J7: از ابتدای سال مالی تا پایان ماه | K7: از ابتدای سال مالی تا پایان ماه | L7: از ابتدای سال مالی تا پایان ماه | M7: از ابتدای سال مالی تا پایان ماه
A8: توضیحات | C8: درآمد سود | E8: هزینه تنزیل | G8: خالص درآمد | I8: درآمد سود | K8: هزینه تنزیل | M8: خالص درآمد
A9: - | C9: 0 | E9: 0 | G9: =C9-E9 -> 0 | I9: 0 | K9: 0 | M9: =I9-K9 -> 0
C10: =SUM(C9:C9) -> 0 | E10: =SUM(E9:E9) -> 0 | G10: =SUM(G9:G9) -> 0 | I10: =SUM(I9:I9) -> 0 | K10: =SUM(K9:K9) -> 0 | M10: =SUM(M9:M9) -> 0

Sheet سودسپرده بانکی 
A2: صندوق سرمایه‌گذاری آهنگ سهام کیان
A3: صورت وضعیت درآمدها
A4: ='جمع درآمدها'!A4:I4 -> برای ماه منتهی به 1405/06/31
A6: ب-سود اوراق بهادار با درآمد ثابت و سپرده بانکی
A7: مشخصات | C7: طی شهریور ماه | I7: از ابتدای سال مالی تا پایان شهریور ماه | J7: از ابتدای سال مالی تا پایان ماه | K7: از ابتدای سال مالی تا پایان ماه | L7: از ابتدای سال مالی تا پایان ماه | M7: از ابتدای سال مالی تا پایان ماه
A8: توضیحات | C8: درآمد سود | E8: هزینه تنزیل | G8: خالص درآمد | I8: درآمد سود | K8: هزینه تنزیل | M8: خالص درآمد
A9: سپرده کوتاه مدت بانک خاورمیانه مهستان | C9: 5137302 | E9: 0 | G9: =C9-E9 -> 5137302 | I9: 89596529 | K9: 0 | M9: =I9+K9 -> 89596529
A10: سپرده کوتاه مدت بانک اقتصاد نوین توحید | C10: 564738 | E10: 0 | G10: =C10-E10 -> 564738 | I10: 3450045 | K10: 0 | M10: =I10+K10 -> 3450045
A11: سپرده کوتاه مدت بانک سامان زعفرانیه | C11: 2340 | E11: 0 | G11: =C11-E11 -> 2340 | I11: 13829 | K11: 0 | M11: =I11+K11 -> 13829
A12: سپرده کوتاه مدت بانک پاسارگاد الوند | C12: 6250 | E12: 0 | G12: =C12-E12 -> 6250 | I12: 39694 | K12: 0 | M12: =I12+K12 -> 39694
A13: سپرده کوتاه مدت بانک دی حافظ | C13: 19854 | E13: 0 | G13: =C13-E13 -> 19854 | I13: 187508 | K13: 0 | M13: =I13+K13 -> 187508
A14: سپرده کوتاه مدت بانک دی دروس | C14: 0 | E14: 0 | G14: =C14-E14 -> 0 | I14: 0 | K14: 0 | M14: =I14+K14 -> 0
A15: بانک دی دروس-بلندمدت | C15: 0 | E15: 0 | G15: =C15-E15 -> 0 | I15: 0 | K15: 0 | M15: =I15+K15 -> 0
A16: بانک دی دروس-بلندمدت | C16: 0 | E16: 0 | G16: =C16-E16 -> 0 | I16: 0 | K16: 0 | M16: =I16+K16 -> 0
A17: بانک دی دروس-بلندمدت | C17: 0 | E17: 0 | G17: =C17-E17 -> 0 | I17: 0 | K17: 0 | M17: =I17+K17 -> 0
A18: سپرده کوتاه مدت بانک ملت جهان کودک | C18: 4443 | E18: 0 | G18: =C18-E18 -> 4443 | I18: 26101 | K18: 0 | M18: =I18+K18 -> 26101
A19: سپرده کوتاه مدت بانک صادرات جمهوری | C19: 2915025 | E19: -14 | G19: =C19+E19 -> 2915011 | I19: 17304160 | K19: =-6984 -> -6984 | M19: =I19+K19 -> 17297176
A20: سپرده بلند مدت بانک صادرات جمهوری | C20: 0 | E20: 0 | G20: =C20-E20 -> 0 | I20: 0 | K20: 0 | M20: =I20+K20 -> 0
A21: سپرده بلند مدت بانک صادرات جمهوری | C21: 0 | E21: 0 | G21: =C21-E21 -> 0 | I21: 0 | K21: 0 | M21: =I21+K21 -> 0
A22: سپرده بلند مدت بانک صادرات جمهوری | C22: 0 | E22: 0 | G22: =C22-E22 -> 0 | I22: 0 | K22: 0 | M22: =I22+K22 -> 0
A23: سپرده کوتاه مدت بانک گردشگری بلوار فردوس | C23: 7202590 | E23: -33 | G23: =C23+E23 -> 7202557 | I23: 4440608982 | K23: -19302 | M23: =I23+K23 -> 4440589680
A24: سپرده کوتاه مدت بانک گردشگری بلوار فردوس | C24: 24351245397 | E24: -5296404 | G24: =C24+E24 -> 24345948993 | I24: 26709769921 | K24: -5986590 | M24: =I24+K24 -> 26703783331
C25: =SUM(C9:C24) -> 24367097939 | E25: =SUM(E9:E24) -> -5296451 | G25: =SUM(G9:G24) -> 24361801488 | I25: =SUM(I9:I24) -> 31260996769 | K25: =SUM(K9:K24) -> -6012876 | M25: =SUM(M9:M24) -> 31254983893

Sheet درآمد ناشی از فروش 
A2: صندوق سرمایه‌گذاری آهنگ سهام کیان
A3: صورت وضعیت درآمدها
A4: ='درآمد ناشی از تغییر قیمت اوراق '!A4:Q4 -> برای ماه منتهی به 1405/06/31
A6: ج-سود(زیان) حاصل از فروش اوراق بهادار
A7: نام شرکت | C7: طی شهریور ماه | D7: طی ماه | E7: طی ماه | F7: طی ماه | G7: طی ماه | H7: طی ماه | I7: طی ماه | K7: از ابتدای سال مالی تا پایان شهریور ماه | L7: از ابتدای سال مالی تا پایان ماه | M7: از ابتدای سال مالی تا پایان ماه | N7: از ابتدای سال مالی تا پایان ماه | O7: از ابتدای سال مالی تا پایان ماه | P7: از ابتدای سال مالی تا پایان ماه | Q7: از ابتدای سال مالی تا پایان ماه
A8: نام شرکت | C8: تعداد | E8: بهای فروش | G8: ارزش دفتری | I8: سود و زیان ناشی از فروش | K8: تعداد | M8: بهای فروش | O8: ارزش دفتری | Q8: سود و زیان ناشی از فروش
A9: سرمایه گذاری صندوق بازنشستگی | C9: 0 | E9: 0 | G9: 0 | I9: =E9-G9 -> 0 | K9: 11000000 | M9: 168945043467 | O9: 184790442100 | Q9: =M9-O9 -> -15845398633
A10: صنایع‌ کاشی‌ و سرامیک‌ سینا | C10: 0 | E10: 0 | G10: 0 | I10: =E10-G10 -> 0 | K10: 1585078 | M10: 38049737014 | O10: 31310339301 | Q10: =M10-O10 -> 6739397713
A11: سیمان خوزستان | C11: 0 | E11: 0 | G11: 0 | I11: =E11-G11 -> 0 | K11: 1930000 | M11: 178617034583 | O11: 142175431611 | Q11: =M11-O11 -> 36441602972
A12: سیمان مازندران‌ | C12: 0 | E12: 0 | G12: 0 | I12: =E12-G12 -> 0 | K12: 2360000 | M12: 172598619845 | O12: 82265930448 | Q12: =M12-O12 -> 90332689397
A13: شیشه‌ و گاز | C13: 1500000 | E13: 81639014948 | G13: 39595910225 | I13: =E13-G13 -> 42043104723 | K13: 3474163 | M13: 165185894278 | O13: 89363016334 | Q13: =M13-O13 -> 75822877944
A14: بانک خاورمیانه | C14: 10000000 | E14: 60903978426 | G14: 50256613497 | I14: =E14-G14 -> 10647364929 | K14: 30000000 | M14: 164652091658 | O14: 150769840490 | Q14: =M14-O14 -> 13882251168
A15: البرزدارو | C15: 5300000 | E15: 83778690927 | G15: 25178615493 | I15: =E15-G15 -> 58600075434 | K15: 94149305 | M15: 1091310155176 | O15: 435164539343 | Q15: =M15-O15 -> 656145615833
A16: کربن‌ ایران‌ | C16: 0 | E16: 0 | G16: 0 | I16: =E16-G16 -> 0 | K16: 21200000 | M16: 138175316162 | O16: 133158665126 | Q16: =M16-O16 -> 5016651036
A17: پالایش نفت تبریز | C17: 1000000 | E17: 52401778971 | G17: 46089276742 | I17: =E17-G17 -> 6312502229 | K17: 1000000 | M17: 52401778971 | O17: 46089276742 | Q17: =M17-O17 -> 6312502229
A18: م .صنایع و معادن احیاء سپاهان | C18: 0 | E18: 0 | G18: 0 | I18: =E18-G18 -> 0 | K18: 21000000 | M18: 221133971825 | O18: 168818715850 | Q18: =M18-O18 -> 52315255975
A19: موتوژن‌ | C19: 0 | E19: 0 | G19: 0 | I19: =E19-G19 -> 0 | J19: =SUM(J9:J19) -> 0 | K19: 8000000 | M19: 19972410671 | O19: 16359877771 | P19: =SUM(P9:P19) -> 0 | Q19: =M19-O19 -> 3612532900
A20: ح . توسعه‌معادن‌وفلزات‌ | C20: 0 | E20: 0 | G20: 0 | I20: =E20-G20 -> 0 | K20: 100000000 | M20: 98385659593 | O20: 115025156773 | Q20: =M20-O20 -> -16639497180
A21: توسعه‌معادن‌وفلزات‌ | C21: 0 | E21: 0 | G21: 0 | I21: =E21-G21 -> 0 | K21: 5000000 | M21: 11966776287 | O21: 10756060708 | Q21: =M21-O21 -> 1210715579
A22: پخش البرز | C22: 0 | E22: 0 | G22: 0 | I22: =E22-G22 -> 0 | K22: 43000000 | M22: 477960663325 | O22: 249556311659 | Q22: =M22-O22 -> 228404351666
A23: سبحان دارو | C23: 30000000 | E23: 378947915230 | G23: 191709414998 | I23: =E23-G23 -> 187238500232 | K23: 30000000 | M23: 378947915230 | O23: 191709414998 | Q23: =M23-O23 -> 187238500232
A24: زغال سنگ پروده طبس | C24: 30000000 | E24: 171761937872 | G24: 112581293957 | I24: =E24-G24 -> 59180643915 | K24: 48000000 | M24: 253961585248 | O24: 180130070331 | Q24: =M24-O24 -> 73831514917
A25: سپید ماکیان | C25: 0 | E25: 0 | G25: 0 | I25: =E25-G25 -> 0 | K25: 18000000 | M25: 492376269590 | O25: 248801779800 | Q25: =M25-O25 -> 243574489790
A26: کاشی الوند | C26: 0 | E26: 0 | G26: 0 | I26: =E26-G26 -> 0 | K26: 20000000 | M26: 126514425689 | O26: 98385534371 | Q26: =M26-O26 -> 28128891318
A27: گروه مالی کیان | C27: 10812191 | E27: 85722264019 | G27: 37114232796 | I27: =E27-G27 -> 48608031223 | K27: 23912191 | M27: 292415157313 | O27: 162541947921 | Q27: =M27-O27 -> 129873209392
A28: پتروشیمی شیراز | C28: 1010000 | E28: 60180595899 | G28: 72473643368 | I28: =E28-G28 -> -12293047469 | K28: 1010000 | M28: 60180595899 | O28: 72473643368 | Q28: =M28-O28 -> -12293047469
A29: صنایع پتروشیمی کرمانشاه | C29: 10004545 | E29: 297314038062 | G29: 265226600286 | I29: =E29-G29 -> 32087437776 | K29: 10004545 | M29: 297314038062 | O29: 265226600286 | Q29: =M29-O29 -> 32087437776
A30: ملی‌ صنایع‌ مس‌ ایران‌ | C30: 0 | E30: 0 | G30: 0 | I30: =E30-G30 -> 0 | K30: 5000000 | M30: 111729602551 | O30: 90089360037 | Q30: =M30-O30 -> 21640242514
A31: سیمان ایلام | C31: 0 | E31: 0 | G31: 0 | I31: =E31-G31 -> 0 | K31: 1800000 | M31: 29933459646 | O31: 22397518505 | Q31: =M31-O31 -> 7535941141
... A35: پگاه‌آذربایجان‌غربی‌ | C35: 0 | E35: 0 | G35: 0 | I35: =E35-G35 -> 0 | K35: 3200000 | M35: 56458178723 | O35: 25192871879 | Q35: =M35-O35 -> 31265306844
A36: جمع | D36: =SUM(D9:D25) -> 0 | E36: =SUM(E9:E35) -> 1527475861204 | F36: =SUM(F9:F29) -> 0 | G36: =SUM(G9:G35) -> 1041815694433 | H36: =SUM(H9:H29) -> 0 | I36: =SUM(I9:I35) -> 485660166771 | J36: =SUM(J9:J24) -> 240801347041 | L36: =SUM(L9:L25) -> 0 | M36: =SUM(M9:M35) -> 5670533503119 | N36: =SUM(N9:N29) -> 0 | O36: =SUM(O9:O35) -> 3691243457924 | P36: =SUM(P9:P29) -> 121956191141 | Q36: =SUM(Q9:Q35) -> 1979290045195

Sheet درآمد ناشی از تغییر قیمت اوراق 
A2: صندوق سرمایه‌گذاری آهنگ سهام کیان
A3: صورت وضعیت درآمدها
A4: ='درآمد سود سهام '!A4:S4 -> برای ماه منتهی به 1405/06/31
A6: د-درآمد ناشی از تغيير قیمت اوراق بهادار
A7: نام شرکت | C7: طی شهریور ماه | D7: طی ماه | E7: طی ماه | F7: طی ماه | G7: طی ماه | H7: طی ماه | I7: طی ماه | K7: از ابتدای سال مالی تا پایان شهریور ماه | L7: از ابتدای سال مالی تا پایان ماه | M7: از ابتدای سال مالی تا پایان ماه | N7: از ابتدای سال مالی تا پایان ماه | O7: از ابتدای سال مالی تا پایان ماه | P7: از ابتدای سال مالی تا پایان ماه | Q7: از ابتدای سال مالی تا پایان ماه
A8: نام شرکت | C8: تعداد | E8: بهای فروش | G8: ارزش دفتری | I8: سود و زیان ناشی از تغییر قیمت | K8: تعداد | M8: بهای فروش | O8: ارزش دفتری | Q8: سود و زیان ناشی از تغییر قیمت
A9: م .صنایع و معادن احیاء سپاهان | C9: 15000000 | E9: 275206084500 | G9: 219390897000 | I9: =E9-G9 -> 55815187500 | K9: 15000000 | M9: 275206084500 | O9: 120584797035 | Q9: =M9-O9 -> 154621287465
A10: البرزدارو | C10: 15000001 | E10: 224600329473 | G10: 287057260619 | I10: =E10-G10 -> -62456931146 | K10: 15000001 | M10: 224600329473 | O10: 74070285399 | Q10: =M10-O10 -> 150530044074
A11: سیمان خوزستان | C11: 14000000 | E11: 1265541158000 | G11: 1178161861800 | I11: =E11-G11 -> 87379296200 | K11: 14000000 | M11: 1265541158000 | O11: 1084968118416 | Q11: =M11-O11 -> 180573039584
A12: سیمان ‌مازندران‌ | C12: 6000000 | E12: 480695278800 | G12: 458785957200 | I12: =E12-G12 -> 21909321600 | K12: 6000000 | M12: 480695278800 | O12: 209150670588 | Q12: =M12-O12 -> 271544608212
A13: شیشه‌ و گاز | C13: 12000000 | E13: 654064693200 | G13: 597431886557 | I13: =E13-G13 -> 56632806643 | K13: 12000000 | M13: 654064693200 | O13: 316767281378 | Q13: =M13-O13 -> 337297411822
A14: گروه مالی کیان | C14: 14362634 | E14: 108027210160 | G14: 145516181963 | I14: =E14-G14 -> -37488971803 | K14: 14362634 | M14: 108027210160 | O14: 49301583930 | Q14: =M14-O14 -> 58725626230
A15: موتوژن‌ | C15: 60000000 | E15: 194088012000 | G15: 178013238000 | I15: =E15-G15 -> 16074774000 | K15: 60000000 | M15: 194088012000 | O15: 122699083240 | Q15: =M15-O15 -> 71388928760
A16: پالایش نفت تبریز | C16: 4000000 | E16: 224530855600 | G16: 185357700758 | I16: =E16-G16 -> 39173154842 | K16: 4000000 | M16: 224530855600 | O16: 184357106975 | Q16: =M16-O16 -> 40173748625
A17: زغال سنگ پروده طبس | C17: 70000000 | E17: 370910526000 | G17: 356762416043 | I17: =E17-G17 -> 14148109957 | K17: 70000000 | M17: 370910526000 | O17: 262689685957 | Q17: =M17-O17 -> 108220840043
A18: کربن‌ ایران‌ | C18: 63300000 | E18: 616172878710 | G18: 514033843699 | I18: =E18-G18 -> 102139035011 | K18: 63300000 | M18: 616172878710 | O18: 466028306122 | Q18: =M18-O18 -> 150144572588
A19: سیمان‌ ایلام‌ | C19: 3600000 | E19: 77444688960 | G19: 72086430960 | I19: =E19-G19 -> 5358258000 | K19: 3600000 | M19: 77444688960 | O19: 44795036815 | Q19: =M19-O19 -> 32649652145
A20: معدنی‌ املاح‌ ایران‌ | C20: 14000000 | E20: 533444352000 | G20: 481478774786 | I20: =E20-G20 -> 51965577214 | K20: 14000000 | M20: 533444352000 | O20: 463491840297 | Q20: =M20-O20 -> 69952511703
... A27: تولیدمواداولیه‌داروپخش‌ | C27: 6000000 | E27: 314351136000 | G27: 312863825955 | I27: =E27-G27 -> 1487310045 | K27: 6000000 | M27: 314351136000 | O27: 264795866577 | Q27: =M27-O27 -> 49555269423
A28: سبحان دارو | C28: 0 | E28: 0 | G28: 0 | I28: -176224301002 | K28: 0 | M28: 0 | O28: 0 | Q28: 0
A29: ویتانا | C29: 60000000 | E29: 355431114000 | G29: 379789994764 | I29: =E29-G29 -> -24358880764 | K29: 60000000 | M29: 355431114000 | O29: 379789994764 | Q29: =M29-O29 -> -24358880764
A30: جمع | E30: =SUM(E9:E29) -> 7121730953967 | F30: =SUM(F9:F19) -> 0 | G30: =SUM(G9:G29) -> 6608926870658 | H30: =SUM(H9:H19) -> 0 | I30: =SUM(I9:I29) -> 336579782307 | M30: =SUM(M9:M29) -> 7121730953967 | N30: =SUM(N9:N19) -> 0 | O30: =SUM(O9:O29) -> 5280138158202 | P30: =SUM(P9:P19) -> 0 | Q30: =SUM(Q9:Q29) -> 1841592795765
